BEGIN:VCALENDAR
VERSION:2.0
PRODID:-//The Society for the Conservation of Philippine Wetlands, Inc. - ECPv6.15.20//NONSGML v1.0//EN
CALSCALE:GREGORIAN
METHOD:PUBLISH
X-ORIGINAL-URL:https://www.wetlands.ph
X-WR-CALDESC:Events for The Society for the Conservation of Philippine Wetlands, Inc.
REFRESH-INTERVAL;VALUE=DURATION:PT1H
X-Robots-Tag:noindex
X-PUBLISHED-TTL:PT1H
BEGIN:VTIMEZONE
TZID:Asia/Taipei
BEGIN:STANDARD
TZOFFSETFROM:+0800
TZOFFSETTO:+0800
TZNAME:CST
DTSTART:20180101T000000
END:STANDARD
END:VTIMEZONE
BEGIN:VTIMEZONE
TZID:Asia/Manila
BEGIN:STANDARD
TZOFFSETFROM:+0800
TZOFFSETTO:+0800
TZNAME:PST
DTSTART:20180101T000000
END:STANDARD
END:VTIMEZONE
BEGIN:VEVENT
DTSTART;TZID=Asia/Taipei:20191202T080000
DTEND;TZID=Asia/Taipei:20191206T170000
DTSTAMP:20260423T100800
CREATED:20191014T042710Z
LAST-MODIFIED:20191014T042710Z
UID:4015-1575273600-1575651600@www.wetlands.ph
SUMMARY:7th WLI-Asia Conference
DESCRIPTION:7th Wetland Link International – Asia Conference \n\n\n\n\n\n\n\n\n2-6 December 2019  / Taipei Zoo and Guandu Nature Park\, Taipei \n\n\n\n\n\n\n\n\nThe WLI-Asia Conference provides a venue for members of WLI-Asia\, including managers and stakeholders of wetland centers\, to regularly convene\, share updated information\, and discuss planned activities for the network. \nThe 7th WLI-Asia Conference will be organized back-to-back with the 20th Anniversary event of Guandu Nature Park by the RRC-EA in cooperation with the Taipei City Government and Wild Bird Society of Taipei.
URL:https://www.wetlands.ph/event/7th-wli-asia-conference/
LOCATION:Guandu Nature Park\, No. 55\, Guandu Rd.\, Beitou Dist.\, Taipei City 112\, Taiwan\, Taipei\, Taiwan
CATEGORIES:Conferences
ATTACH;FMTTYPE=image/jpeg:https://www.wetlands.ph/wp-content/uploads/2019/10/7WLI-Taipei.jpg
END:VEVENT
BEGIN:VEVENT
DTSTART;TZID=Asia/Manila:20191008T103000
DTEND;TZID=Asia/Manila:20191008T140000
DTSTAMP:20260423T100800
CREATED:20190923T135320Z
LAST-MODIFIED:20190923T141554Z
UID:3939-1570530600-1570543200@www.wetlands.ph
SUMMARY:SCPW at the EAAF Congress 2019
DESCRIPTION:The SCPW will be presenting three papers at the 2nd R&D Congress on East Asian-Australian Flyway (EAAF) for Wetlands and Migratory Birds in the Course of Climate Change. \nThese papers cover rapid approaches to wetland ecosystem services appraisal\, tourism and carrying capacity for the Las Piñas – Parañaque Wetland Park\, and Rapid Mapping in support of Management Planning. \nIf you are interested to attend and listen to the presenters\, the EAAF Congress 2019 will be held at L’Fisher Hotel\, Bacolod City on 6-11 October 2019. \nDir. Amy M. Lecciones (SCPW Trustee)\nRapid Mapping in support of Management Planning \nArch. Aaron Julius M. Lecciones (SCPW Trustee)\nRapid Assessment of Wetland Ecosystem Services (RAWES) in wetland offsetting for urban developments: An example from Valenzuela City\, Philippines \nDr. Ma Catriona E. Devanadera (SCPW Trustee)\nWetlands and Tourism: Challenges and Opportunities for the Las Piñas – Parañaque Wetland Park
URL:https://www.wetlands.ph/event/scpw-eaaf-congress-2019/
LOCATION:L’Fisher Hotel\, Bacolod City\, 14th Lacson Street 6100\, Bacolod City\, Negros Occidental\, 6100\, Philippines
CATEGORIES:Conferences
ATTACH;FMTTYPE=image/jpeg:https://www.wetlands.ph/wp-content/uploads/2019/09/66767053_2435583506655248_6611364972595249152_n.jpg
ORGANIZER;CN="Ecosystems Research and Development Bureau (DENR)":MAILTO:eaafcongress2019@gmail.com
END:VEVENT
END:VCALENDAR